BEGIN:VCALENDAR
VERSION:2.0
CALSCALE:GREGORIAN
PRODID:-//Diputació de Barcelona//DibaCMS//EN
BEGIN:VEVENT
UID:DI_17693@www.vilatorta.cat
DTSTAMP:20260422T190059
DTSTART:20260422T180000
DTEND:20260422T190000
SUMMARY:Espectacle: Històries de Palau, amb Blai Senabre
LOCATION:Avinguda de Montserrat, 18 08504 Sant Julià de Vilatorta
METHOD:PUBLISH
X-WR-CALNAME:sjv.info@vilatorta.cat
X-WR-TIMEZONE:Europe/Madrid
DESCRIPTION:Els reis i el cavaller Sant Jordi protagonitzen les estranyes i
	 divertides aventures que el narrador us contarà, però aix&o
	grave; si, amb l'ajuda i col·laboració de tots. Revetlla
	 de Sant Jordi Per infants a partir de 4 anys. (Aforament limitat)
URI:https://www.vilatorta.cat/actualitat/agenda/espectacle-histories-de-palau-amb-blai-senabre.html
CLASS:PUBLIC
END:VEVENT
BEGIN:VEVENT
UID:DI_17031@www.vilatorta.cat
DTSTAMP:20260422T190059
DTSTART:20260423T080000
DTEND:20260423T190000
SUMMARY:Diada de Sant Jordi
LOCATION:plaça de Catalunya 
METHOD:PUBLISH
X-WR-CALNAME:sjv.info@vilatorta.cat
X-WR-TIMEZONE:Europe/Madrid
DESCRIPTION:Com cada any el 23 d'abril celebrarem la Diada de Sant
	 Jordi. Durant tot el dia podeu trobar parades de roses. L' Ajuntament
	 de Sant Julià de Vilatorta i Vilalleons desitja a tothom una feli&
	ccedil; Diada de Sant Jordi.
URI:https://www.vilatorta.cat/temes/turisme-/17031-diada-de-sant-jordi.html
CLASS:PUBLIC
END:VEVENT
BEGIN:VEVENT
UID:DI_17722@www.vilatorta.cat
DTSTAMP:20260422T190059
DTSTART:20260424T193000
DTEND:20260424T213000
SUMMARY:Cicle Gaudí: Mi amiga Eva
LOCATION:Carrer del Compositor Ramon Victori, 4  08504 Sant Julià de Vilatorta
METHOD:PUBLISH
X-WR-CALNAME:sjv.info@vilatorta.cat
X-WR-TIMEZONE:Europe/Madrid
DESCRIPTION:El divendres 24 d’abril, el Cicle Gaudí torna a Sa
	nt Julià de Vilatorta amb Mi amiga Eva, la nova comèdia de C
	esc Gay, protagonitzada per Nora Navas, Juan Diego Botto i Rodrigo de la S
	erna. La pel·lícula, que ja ha reunit més de 145.000 
	espectadors i s’ha convertit en un dels fenòmens del boca-ore
	lla de la temporada, arriba al municipi amb el seu humor caracterís
	tic i una mirada tendra sobre les segones oportunitats.
URI:https://www.vilatorta.cat/actualitat/agenda/cicle-gaudi-mi-amiga-eva.html
CLASS:PUBLIC
END:VEVENT
BEGIN:VEVENT
UID:DI_17671@www.vilatorta.cat
DTSTAMP:20260422T190059
DTSTART:20260425T070000
DTEND:20260425T140000
SUMMARY:La X Copa Catalana Fèmines a Sant Julià de Vilatorta
LOCATION:
METHOD:PUBLISH
X-WR-CALNAME:sjv.info@vilatorta.cat
X-WR-TIMEZONE:Europe/Madrid
DESCRIPTION:La X Copa Catalana Fèmines arribarà a Sant Juli&a
	grave; de Vilatorta el 25 d’abril de 2026, en una prova puntuable pe
	r a les categories Cadet, Júnior, Sub23, Elit i Màster.
URI:https://www.vilatorta.cat/actualitat/agenda/la-x-copa-catalana-femines-a-sant-julia-de-vilatorta.html
CLASS:PUBLIC
END:VEVENT
BEGIN:VEVENT
UID:DI_17710@www.vilatorta.cat
DTSTAMP:20260422T190059
DTSTART:20260425T100000
DTEND:20260425T130000
SUMMARY:Jornada de Portes Obertes a la Llar d’Infants Patuleia 2026
LOCATION:Carrer del Montseny, 27-29 08504 Sant Julià de Vilatorta
METHOD:PUBLISH
X-WR-CALNAME:sjv.info@vilatorta.cat
X-WR-TIMEZONE:Europe/Madrid
DESCRIPTION:Vine a descobrir la Llar d’Infants Patuleia! El 25 d&rsqu
	o;abril, de 10 a 13 h, la Llar d’Infants Municipal Patuleia obre les
	 portes perquè les famílies puguin conèixer un espai 
	pensat per créixer, jugar i descobrir el món amb calma i afe
	cte.
URI:https://www.vilatorta.cat/actualitat/agenda/jornada-de-portes-obertes-a-la-llar-dinfants-patuleia-2026.html
CLASS:PUBLIC
END:VEVENT
BEGIN:VEVENT
UID:DI_17653@www.vilatorta.cat
DTSTAMP:20260422T190059
DTSTART:20260426T100000
DTEND:20260426T140000
SUMMARY:Mercat Artesanal a Sant Julià de Vilatorta
LOCATION:Plaça de Catalunya 
METHOD:PUBLISH
X-WR-CALNAME:sjv.info@vilatorta.cat
X-WR-TIMEZONE:Europe/Madrid
DESCRIPTION:Sant Julià de Vilatorta s’omplirà de colors
	, artesania i ambient festiu el diumenge 26 d’abril, a partir de les
	 10 del matí, quan la plaça de Catalunya acollirà el 
	Mercat Artesanal, una proposta que reunirà artesanes i artesans amb
	 peces úniques fetes a mà: ceràmica, tèxtil, b
	ijuteria, decoració i moltes altres creacions que conviden a passej
	ar i descobrir talent de proximitat.
URI:https://www.vilatorta.cat/actualitat/agenda/mercat-artesanal-a-sant-julia-de-vilatorta.html
CLASS:PUBLIC
END:VEVENT
BEGIN:VEVENT
UID:DI_17694@www.vilatorta.cat
DTSTAMP:20260422T190059
DTSTART:20260428T183000
DTEND:20260428T193000
SUMMARY:Presentació del Disc: Gresca genuïna, del grup Panxolina
LOCATION:Avinguda de Montserrat, 18 08504 Sant Julià de Vilatorta
METHOD:PUBLISH
X-WR-CALNAME:sjv.info@vilatorta.cat
X-WR-TIMEZONE:Europe/Madrid
DESCRIPTION:El grup Panxolina, format per Carles Font “Fontsu” 
	i Jordi Sunyer, presenta el disc Gresca genuïna. El treball recull ca
	nçons populars, versions de Lluís Llach, Esquirols, Jaume Ar
	nella i Pere Tàpies, i un tema propi que tanca un disc enregistrat 
	“com els d’abans”, sense bases pregravades ni artificis.
URI:https://www.vilatorta.cat/actualitat/agenda/presentacio-del-disc-gresca-genuina-del-grup-panxolina.html
CLASS:PUBLIC
END:VEVENT
BEGIN:VEVENT
UID:DI_16655@www.vilatorta.cat
DTSTAMP:20260422T190059
DTSTART:20260429T083000
DTEND:20260429T083000
SUMMARY:Els dimecres vine a caminar amb el grup "anar-hi anant"
LOCATION:
METHOD:PUBLISH
X-WR-CALNAME:sjv.info@vilatorta.cat
X-WR-TIMEZONE:Europe/Madrid
DESCRIPTION:Els dimecres, a 2/4 de 9 del matí, vine a caminar a
	mb el grup "anar-hi anant". Una iniciativa particular, coordinad
	a per en Joan Morera i en Ramon Cunill, fan caminades curtes per con&
	egrave;ixer l'entorn del nostre poble.
URI:https://www.vilatorta.cat/actualitat/agenda/16655-els-dimecres-vine-a-caminar-amb-el-grup-anar-hi-anant.html
CLASS:PUBLIC
END:VEVENT
BEGIN:VEVENT
UID:DI_17695@www.vilatorta.cat
DTSTAMP:20260422T190059
DTSTART:20260429T190000
DTEND:20260429T200000
SUMMARY:Trobada club de lectura L’Arca de Noè
LOCATION:Avinguda de Montserrat, 18 08504 Sant Julià de Vilatorta
METHOD:PUBLISH
X-WR-CALNAME:sjv.info@vilatorta.cat
X-WR-TIMEZONE:Europe/Madrid
DESCRIPTION:Tertúlia literària al voltant del llibre La porta
	 de Magda Szabói. La porta és l'obra mestra de Magda Sza
	bó i un clàssic de les lletres europees. Ens parla de la com
	plexitat de les relacions humanes, de la dificultat d'estimar incodici
	onalment i de com, sovint, l'afecte no s'expressa en els altres de
	 la manera com voldríem. Inscripció prèvia.
URI:https://www.vilatorta.cat/actualitat/agenda/17695-trobada-club-de-lectura-larca-de-noe.html
CLASS:PUBLIC
END:VEVENT
BEGIN:VEVENT
UID:DI_17726@www.vilatorta.cat
DTSTAMP:20260422T190059
DTSTART:20260505T090000
DTEND:20260505T110000
SUMMARY:Sessió informativa sobre el Procés de Regularització Extraordinària 2026
LOCATION:Plaça de l'U d'octubre, núm. 2 08504 Sant Julià de Vilatorta
METHOD:PUBLISH
X-WR-CALNAME:sjv.info@vilatorta.cat
X-WR-TIMEZONE:Europe/Madrid
DESCRIPTION:El16/04/2026 s'ha obert el termini per sol·licitar l
	a regularització extraordinària i es podrà realitzar 
	fins al 30/06/2026. Vine a la Sessió Informativa i t'explicarem
	 el Procediment de Regularització extraordinària 2026! Dia: 
	05/05/2026 LLoc: Aula de Cultura Hora: de 9:30 a 11:00 h. 💻Inscriu
	-te per venir a la Sessió al formulari: https://forms.cloud.mi
	crosoft/e/HL4RLuve8W La regularització extraordinària &eacut
	e;s una mesura de justícia social que atorga drets a les persones q
	ue ja formen part de la nostra societat, que millora la inclusió so
	cial, redueix l'economia submergida i millora la recaptació fis
	cal.
URI:https://www.vilatorta.cat/actualitat/agenda/17726-sessio-informativa-sobre-el-proces-de-regularitzacio-extraordinaria-2026.html
CLASS:PUBLIC
END:VEVENT
END:VCALENDAR
