BEGIN:VCALENDAR
VERSION:2.0
CALSCALE:GREGORIAN
PRODID:-//Diputació de Barcelona//DibaCMS//EN
BEGIN:VEVENT
UID:12987
DTSTAMP:20260421T131709
DTSTART:20180204T173000
DTEND:20180225T193000
SUMMARY:Tardes de cinema 
LOCATION:Carrer del Compositor Ramon Victori, 4  08504 Sant Julià de Vilatorta
METHOD:PUBLISH
X-WR-CALNAME:sjv.info@vilatorta.cat
X-WR-TIMEZONE:Europe/Madrid
DESCRIPTION:Projecció d'una pel·lícula juvenil o infantil al Saló Catalunya. Es fa una sessió cada diumenge del mes de febrer.

URI:https://www.vilatorta.cat/temes/turisme-/tardes-de-cinema-.html
CLASS:PUBLIC
END:VEVENT
END:VCALENDAR
