BEGIN:VCALENDAR
VERSION:2.0
CALSCALE:GREGORIAN
PRODID:-//Diputació de Barcelona//DibaCMS//EN
BEGIN:VEVENT
UID:13078
DTSTAMP:20260423T233158
DTSTART:20190517T151500
DTEND:20190517T170000
SUMMARY:Festa Primavera - Llar d'infants Patuleia
LOCATION:Carrer del Montseny, 27-29 08504 Sant Julià de Vilatorta
METHOD:PUBLISH
X-WR-CALNAME:sjv.info@vilatorta.cat
X-WR-TIMEZONE:Europe/Madrid
DESCRIPTION:Com cada curs, a la Llar d'Infants Patuleia donem la benvinguda al bon temps amb una gran festa, on infants i famílies participen d'una plantada de flors omplint el pati de colors.

URI:https://www.vilatorta.cat/temes/turisme-/festa-primavera-llar-dinfants-patuleia.html
CLASS:PUBLIC
END:VEVENT
END:VCALENDAR
