BEGIN:VCALENDAR
VERSION:2.0
CALSCALE:GREGORIAN
PRODID:-//Diputació de Barcelona//DibaCMS//EN
BEGIN:VEVENT
UID:13186
DTSTAMP:20260424T150003
DTSTART:20190526T120000
DTEND:20190526T000000
SUMMARY:Música per la llibertat
LOCATION:Plaça Major de Vic (08500) 
METHOD:PUBLISH
X-WR-CALNAME:sjv.info@vilatorta.cat
X-WR-TIMEZONE:Europe/Madrid
DESCRIPTION:Música per la llibertat de Sant Julià de Vilatorta es suma a una convocatòria conjunta que es realitzarà a les 12h a la plaça Major de Vic. 

 

URI:https://www.vilatorta.cat/temes/turisme-/13186-musica-per-la-llibertat.html
CLASS:PUBLIC
END:VEVENT
END:VCALENDAR
