BEGIN:VCALENDAR
VERSION:2.0
CALSCALE:GREGORIAN
PRODID:-//Diputació de Barcelona//DibaCMS//EN
BEGIN:VEVENT
UID:13228
DTSTAMP:20260420T044125
DTSTART:20190612T213000
DTEND:20190612T223000
SUMMARY:Últim ple de la legislatura
LOCATION:Plaça de l'U d'octubre, núm. 1 08504 Sant Julià de Vilatorta
METHOD:PUBLISH
X-WR-CALNAME:sjv.info@vilatorta.cat
X-WR-TIMEZONE:Europe/Madrid
DESCRIPTION:El dimecres 12, a 2/4 de 10 del vespre, es farà l'últim ple de la legislatura abans de l'inici del nou mandat. És un ple necessari per aprovar l'acta de l'última sessió plenària i servirà de comiat als quatre regidors que deixen l'Ajuntament: Trini Subirana, Francesc Hervias, Cristina Solà i Jaume Miravet, aquest últim amb 20 anys de trajectòria municipal.

URI:https://www.vilatorta.cat/actualitat/agenda/ultim-ple-de-la-legislatura.html
CLASS:PUBLIC
END:VEVENT
END:VCALENDAR
