BEGIN:VCALENDAR
VERSION:2.0
CALSCALE:GREGORIAN
PRODID:-//Diputació de Barcelona//DibaCMS//EN
BEGIN:VEVENT
UID:13235
DTSTAMP:20260424T132556
DTSTART:20190621T200000
DTEND:20190621T210000
SUMMARY:Reunió amb les famílies del Casal Municipal d'estiu
LOCATION:Avinguda de Sant Llorenç, 80 08504 Sant Julià de Vilatorta
METHOD:PUBLISH
X-WR-CALNAME:sjv.info@vilatorta.cat
X-WR-TIMEZONE:Europe/Madrid
DESCRIPTION:Reunió informativa adreçada a totes aquelles famílies que han inscrit els seus infants al casal municipal. La reunió tindrà lloc, a les 8 del vespre, a la Sala de Conferències del Pavelló. 

 

URI:https://www.vilatorta.cat/actualitat/agenda/reunio-amb-les-families-del-casal-municipal-destiu.html
CLASS:PUBLIC
END:VEVENT
END:VCALENDAR
