BEGIN:VCALENDAR
VERSION:2.0
CALSCALE:GREGORIAN
PRODID:-//Diputació de Barcelona//DibaCMS//EN
BEGIN:VEVENT
UID:13236
DTSTAMP:20260420T095610
DTSTART:20190618T200000
DTEND:20190618T210000
SUMMARY:Reunió famílies i joves Camp Tortí 2019
LOCATION:Avinguda de Sant Llorenç, 80 08504 Sant Julià de Vilatorta
METHOD:PUBLISH
X-WR-CALNAME:sjv.info@vilatorta.cat
X-WR-TIMEZONE:Europe/Madrid
DESCRIPTION:Reunió informativa adreçada a famílies i joves que estan inscrits a la 4a edició del Camp Tortí 2019. La reunió es farà a la Sala de Conferències del pavelló a les 20h. 

URI:https://www.vilatorta.cat/actualitat/agenda/reunio-families-i-joves-camp-torti-2019.html
CLASS:PUBLIC
END:VEVENT
END:VCALENDAR
