BEGIN:VCALENDAR
VERSION:2.0
CALSCALE:GREGORIAN
PRODID:-//Diputació de Barcelona//DibaCMS//EN
BEGIN:VEVENT
UID:13240
DTSTAMP:20260424T102302
DTSTART:20190712T100000
DTEND:20190712T190000
SUMMARY:Deixalleria mòbil
LOCATION:C/ Compositor Ramon Victori 
METHOD:PUBLISH
X-WR-CALNAME:sjv.info@vilatorta.cat
X-WR-TIMEZONE:Europe/Madrid
DESCRIPTION:Si tens residus que no saps on llençar-los, porta'ls a la deixalleria el divendres 12 de juliol.

 

URI:https://www.vilatorta.cat/actualitat/agenda/13240-deixalleria-mobil.html
CLASS:PUBLIC
END:VEVENT
END:VCALENDAR
