BEGIN:VCALENDAR
VERSION:2.0
CALSCALE:GREGORIAN
PRODID:-//Diputació de Barcelona//DibaCMS//EN
BEGIN:VEVENT
UID:13246
DTSTAMP:20260420T075821
DTSTART:20190615T120000
DTEND:20190615T140000
SUMMARY:Acte de constitució del consistori
LOCATION:Plaça de l'U d'octubre, núm. 1 08504 Sant Julià de Vilatorta
METHOD:PUBLISH
X-WR-CALNAME:sjv.info@vilatorta.cat
X-WR-TIMEZONE:Europe/Madrid
DESCRIPTION:El dissabte 15 de juny, a les 12 del migdia es durà a terme l'acte de constitució del consistori a la sala de plens de l'ajuntament, es podrà accedir per l'Aula de Cultura.

URI:https://www.vilatorta.cat/actualitat/agenda/acte-de-constitucio-del-consistori.html
CLASS:PUBLIC
END:VEVENT
END:VCALENDAR
