BEGIN:VCALENDAR
VERSION:2.0
CALSCALE:GREGORIAN
PRODID:-//Diputació de Barcelona//DibaCMS//EN
BEGIN:VEVENT
UID:13249
DTSTAMP:20260420T093515
DTSTART:20190628T220000
DTEND:20190628T230000
SUMMARY:TOSCA - Òpera al Saló Catalunya
LOCATION:Carrer del Compositor Ramon Victori, 4  08504 Sant Julià de Vilatorta
METHOD:PUBLISH
X-WR-CALNAME:sjv.info@vilatorta.cat
X-WR-TIMEZONE:Europe/Madrid
DESCRIPTION:Un any més s'acosta l'Estiu Set Fonts. El proper divendres 28 de juny a les 22h al Saló Catalunya podreu gaudir de l'òpera Tosca, de Giacomo Puccini. 

 

URI:https://www.vilatorta.cat/temes/turisme-/tosca-opera-al-salo-catalunya.html
CLASS:PUBLIC
END:VEVENT
END:VCALENDAR
