BEGIN:VCALENDAR
VERSION:2.0
CALSCALE:GREGORIAN
PRODID:-//Diputació de Barcelona//DibaCMS//EN
BEGIN:VEVENT
UID:13250
DTSTAMP:20260420T061116
DTSTART:20190629T220000
DTEND:20190629T230000
SUMMARY:BELLES CANÇONS - Cantem Folk
LOCATION:Parc de les Set Fonts 08504 Sant Julià de Vilatorta
METHOD:PUBLISH
X-WR-CALNAME:sjv.info@vilatorta.cat
X-WR-TIMEZONE:Europe/Madrid
DESCRIPTION:El proper dissabte 29 de juny a les 22h al Parc de les Set Fonts, dins del programa de l'Estiu Set Fonts, tindrà lloc la cantata de Folk amb el grup "Belles Cançons". 

URI:https://www.vilatorta.cat/temes/turisme-/belles-cancons-cantem-folk.html
CLASS:PUBLIC
END:VEVENT
END:VCALENDAR
