BEGIN:VCALENDAR
VERSION:2.0
CALSCALE:GREGORIAN
PRODID:-//Diputació de Barcelona//DibaCMS//EN
BEGIN:VEVENT
UID:13251
DTSTAMP:20260420T093402
DTSTART:20190705T220000
DTEND:20190705T230000
SUMMARY:BRESCA QUARTET - Jazz
LOCATION:Parc de les Set Fonts 08504 Sant Julià de Vilatorta
METHOD:PUBLISH
X-WR-CALNAME:sjv.info@vilatorta.cat
X-WR-TIMEZONE:Europe/Madrid
DESCRIPTION:El divendres dia 5 de juliol, dins del programa de l'Estiu Set Fonts, el grup de jazz Bresca Quartet tocarà a les 22h a les Set Fonts de Sant Julià de Vilatorta. 

URI:https://www.vilatorta.cat/temes/turisme-/bresca-quartet-jazz.html
CLASS:PUBLIC
END:VEVENT
END:VCALENDAR
