BEGIN:VCALENDAR
VERSION:2.0
CALSCALE:GREGORIAN
PRODID:-//Diputació de Barcelona//DibaCMS//EN
BEGIN:VEVENT
UID:13252
DTSTAMP:20260420T075608
DTSTART:20190726T220000
DTEND:20190726T230000
SUMMARY:SIX IN TOWN - Rock
LOCATION:Parc de les Set Fonts 08504 Sant Julià de Vilatorta
METHOD:PUBLISH
X-WR-CALNAME:sjv.info@vilatorta.cat
X-WR-TIMEZONE:Europe/Madrid
DESCRIPTION:El divendres dia 26 de juliol a les 22h, al Parc de les Set Fonts, tindrà lloc el concert de Rock del grup SIX IN TOWN, dins del programa de l'Estiu Set Fonts. 

URI:https://www.vilatorta.cat/actualitat/agenda/six-in-town-rock.html
CLASS:PUBLIC
END:VEVENT
END:VCALENDAR
