BEGIN:VCALENDAR
VERSION:2.0
CALSCALE:GREGORIAN
PRODID:-//Diputació de Barcelona//DibaCMS//EN
BEGIN:VEVENT
UID:13264
DTSTAMP:20260420T060954
DTSTART:20190701T170000
DTEND:20190701T210000
SUMMARY:Donació de sang
LOCATION:Consultori Municipal
Avinguda Verge de Montserrat - Sant Julià de Vilatorta (08504) 
METHOD:PUBLISH
X-WR-CALNAME:sjv.info@vilatorta.cat
X-WR-TIMEZONE:Europe/Madrid
DESCRIPTION:La donació de sang és important per tal de garantir que les persones en tinguin quan en necessiten. És per aquest motiu que teniu l'oportunitat de fer la vostra donació el dia 1 de juliol al Consultori Municipal de Sant Julià de Vilatorta en horari de 17h a 21h.

URI:https://www.vilatorta.cat/actualitat/agenda/13264-donacio-de-sang.html
CLASS:PUBLIC
END:VEVENT
END:VCALENDAR
