BEGIN:VCALENDAR
VERSION:2.0
CALSCALE:GREGORIAN
PRODID:-//Diputació de Barcelona//DibaCMS//EN
BEGIN:VEVENT
UID:13291
DTSTAMP:20260420T093547
DTSTART:20190706T193000
DTEND:20190706T230000
SUMMARY:Pep Poblet i Nito Figueras - Cançons dedicades a Elles
LOCATION:Monestir de Sant Pere de Casserres 
METHOD:PUBLISH
X-WR-CALNAME:sjv.info@vilatorta.cat
X-WR-TIMEZONE:Europe/Madrid
DESCRIPTION:En el marc del Festival d'Estiu de Sant Pere de Casserres 2019, el proper dissabte dia 6 de juliol a les 19.30h actuarà Pep Poblet i Nito Figueras amb Cançons dedicades a Elles al mateix Monestir de Sant Pere de Casserres.

L'aforament és limitat. 

Podeu adquirir l'entrada anticipada a www.codetickets.com 

URI:https://www.vilatorta.cat/actualitat/agenda/pep-poblet-i-nito-figueras-cancons-dedicades-a-elles.html
CLASS:PUBLIC
END:VEVENT
END:VCALENDAR
