BEGIN:VCALENDAR
VERSION:2.0
CALSCALE:GREGORIAN
PRODID:-//Diputació de Barcelona//DibaCMS//EN
BEGIN:VEVENT
UID:13292
DTSTAMP:20260420T060854
DTSTART:20190713T193000
DTEND:20190713T230000
SUMMARY:XXV ENCONTRE LITERARI
LOCATION:Monestir de Sant Pere de Casserres 
METHOD:PUBLISH
X-WR-CALNAME:sjv.info@vilatorta.cat
X-WR-TIMEZONE:Europe/Madrid
DESCRIPTION:Dins del programa del Festival d'Estiu de Sant Pere de Casserres, el dia 13 de juliol a les 19.30 h es portarà a terme la trobada literària "3 VEUS 3 ESTILS" amb els poetes Joan Company, Anna Martínez i Carles Morell moderats per Víctor Pallàs.

URI:https://www.vilatorta.cat/actualitat/agenda/xxv-encontre-literari.html
CLASS:PUBLIC
END:VEVENT
END:VCALENDAR
