BEGIN:VCALENDAR
VERSION:2.0
CALSCALE:GREGORIAN
PRODID:-//Diputació de Barcelona//DibaCMS//EN
BEGIN:VEVENT
UID:13294
DTSTAMP:20260424T101838
DTSTART:20190727T193000
DTEND:20190727T230000
SUMMARY:Gerard Quintana en concert
LOCATION:Monestir de Sant Pere de Casserres 
METHOD:PUBLISH
X-WR-CALNAME:sjv.info@vilatorta.cat
X-WR-TIMEZONE:Europe/Madrid
DESCRIPTION:En el marc del Festival d'Estiu de Sant Pere de Casserres 2019, el proper dissabte dia 27 de juliol a les 19.30h actuarà Gerard Quintana amb Intocables, recull de cançons prohibides i censurades. Ho farà al mateix Monestir de Sant Pere de Casserres. L'aforament és limitat. Podeu adquirir l'entrada anticipada a www.codetickets.com 

URI:https://www.vilatorta.cat/actualitat/agenda/gerard-quintana-en-concert.html
CLASS:PUBLIC
END:VEVENT
END:VCALENDAR
