BEGIN:VCALENDAR
VERSION:2.0
CALSCALE:GREGORIAN
PRODID:-//Diputació de Barcelona//DibaCMS//EN
BEGIN:VEVENT
UID:13295
DTSTAMP:20260420T093342
DTSTART:20190713T163000
DTEND:20190714T040000
SUMMARY:Aigua pel jovent
LOCATION:Parc de les Set Fonts  
METHOD:PUBLISH
X-WR-CALNAME:sjv.info@vilatorta.cat
X-WR-TIMEZONE:Europe/Madrid
DESCRIPTION:La festa major jove comença el cap de setmana del 13 de juliol. La primera de les activitats és Aigua pel jovent, on joves del municipi ballen al ritme de la batukada sota l'aigua. La rua finalitza a les 19h amb un entrepà per als participants. A la nit, la festa continua amb el DJ Velasco.

 

URI:https://www.vilatorta.cat/temes/turisme-/aigua-pel-jovent.html
CLASS:PUBLIC
END:VEVENT
END:VCALENDAR
