BEGIN:VCALENDAR
VERSION:2.0
CALSCALE:GREGORIAN
PRODID:-//Diputació de Barcelona//DibaCMS//EN
BEGIN:VEVENT
UID:13296
DTSTAMP:20260420T075857
DTSTART:20190720T140000
DTEND:20190720T160000
SUMMARY:Dinar Jove
LOCATION:Carrer de Sant Roc, s/n 08504 Sant Julià de Vilatorta
METHOD:PUBLISH
X-WR-CALNAME:sjv.info@vilatorta.cat
X-WR-TIMEZONE:Europe/Madrid
DESCRIPTION:El dissabte 20 de juliol continua la Festa Major jove amb el Dinar Jove a la zona esportiva del municipi. 

 

URI:https://www.vilatorta.cat/actualitat/agenda/dinar-jove.html
CLASS:PUBLIC
END:VEVENT
END:VCALENDAR
