BEGIN:VCALENDAR
VERSION:2.0
CALSCALE:GREGORIAN
PRODID:-//Diputació de Barcelona//DibaCMS//EN
BEGIN:VEVENT
UID:13297
DTSTAMP:20260424T104234
DTSTART:20190720T170000
DTEND:20190720T200000
SUMMARY:Humor Amarillo
LOCATION:Avinguda de Sant Llorenç, 80 08504 Sant Julià de Vilatorta
METHOD:PUBLISH
X-WR-CALNAME:sjv.info@vilatorta.cat
X-WR-TIMEZONE:Europe/Madrid
DESCRIPTION:El dissabte 20 de juliol, a les 5 de la tarda, al costat del pavelló esportiu municipal veniu a gaudir de l'activitat d'Humor Amarillo, organitzada conjuntament amb el Consell de Joventut Tupinots. 

 

URI:https://www.vilatorta.cat/actualitat/agenda/humor-amarillo.html
CLASS:PUBLIC
END:VEVENT
END:VCALENDAR
