BEGIN:VCALENDAR
VERSION:2.0
CALSCALE:GREGORIAN
PRODID:-//Diputació de Barcelona//DibaCMS//EN
BEGIN:VEVENT
UID:13300
DTSTAMP:20260420T095212
DTSTART:20190713T183000
DTEND:20190713T203000
SUMMARY:Vilatorta Teatre torna amb l'obra "CRIM QUA-LI-FI-CAT"
LOCATION:Carrer del Compositor Ramon Victori, 4  08504 Sant Julià de Vilatorta
METHOD:PUBLISH
X-WR-CALNAME:sjv.info@vilatorta.cat
X-WR-TIMEZONE:Europe/Madrid
DESCRIPTION:Dins del programa "Nit d'Entitats", l'associació Vilatorta Teatre presenta de nou l'obra  "Crim qua-li-fi-cat", el dia 13 de juliol a les 18.30h al Saló Catalunya. Una comèdia, fresca i desenfrenada que va tenir una molt bona accpetació del públic en les dues sessions d'estrena. 

URI:https://www.vilatorta.cat/temes/turisme-/vilatorta-teatre-torna-amb-lobra-crim-qua-li-fi-cat.html
CLASS:PUBLIC
END:VEVENT
END:VCALENDAR
