BEGIN:VCALENDAR
VERSION:2.0
CALSCALE:GREGORIAN
PRODID:-//Diputació de Barcelona//DibaCMS//EN
BEGIN:VEVENT
UID:13301
DTSTAMP:20260420T061047
DTSTART:20190713T200000
DTEND:20190713T220000
SUMMARY:Actuació de "Té Delegats"
LOCATION:Plaça Catalunya 
METHOD:PUBLISH
X-WR-CALNAME:sjv.info@vilatorta.cat
X-WR-TIMEZONE:Europe/Madrid
DESCRIPTION:El proper dia 13 de juliol a les 20h tindrà lloc l'actuació del grup "Té Delegats", dins del programa de Nit d'Entitats 2019. El grup toca versions de música pop, rock i folck. Podreu gaudir de la seva actuació a la plaça  de Catalunya. 

 

URI:https://www.vilatorta.cat/temes/turisme-/actuacio-de-te-delegats.html
CLASS:PUBLIC
END:VEVENT
END:VCALENDAR
