BEGIN:VCALENDAR
VERSION:2.0
CALSCALE:GREGORIAN
PRODID:-//Diputació de Barcelona//DibaCMS//EN
BEGIN:VEVENT
UID:13302
DTSTAMP:20260424T114653
DTSTART:20190713T220000
DTEND:20190713T233000
SUMMARY:Sardanes
LOCATION:Plaça Catalunya 
METHOD:PUBLISH
X-WR-CALNAME:sjv.info@vilatorta.cat
X-WR-TIMEZONE:Europe/Madrid
DESCRIPTION:El dissabte 13 de juliol a partir de les 22h hi haurà la ballada de sardanes amb la cobla "La Flama de Farners". L'activitat forma part de la "Nit d'Entitats", lque tindrà lloc el mateix dia a partir de les 20h a la plaça de Catalunya. Podreu gaudir també d'altres activitats com ara estands de les entitats, tallers, demostracions i exposicions vàries. 

URI:https://www.vilatorta.cat/temes/turisme-/13302-sardanes.html
CLASS:PUBLIC
END:VEVENT
END:VCALENDAR
