BEGIN:VCALENDAR
VERSION:2.0
CALSCALE:GREGORIAN
PRODID:-//Diputació de Barcelona//DibaCMS//EN
BEGIN:VEVENT
UID:13303
DTSTAMP:20260424T114927
DTSTART:20190713T220000
DTEND:20190713T235500
SUMMARY:Sopar de carmanyola
LOCATION:Plaça Catalunya 
METHOD:PUBLISH
X-WR-CALNAME:sjv.info@vilatorta.cat
X-WR-TIMEZONE:Europe/Madrid
DESCRIPTION:Durant la Nit d'Entitats que tindrà lloc el proper 13 de juliol a partir de les 20h, es proposa un sopar popular de carmanyola amb l'objectiu de tancar l'acte. És per això que totes aquelles persones que vulguin poden venir a sopar a la plaça de Catalunya. El sopar és de carmanyola, per tant heu de portar el menjar preparat. 

URI:https://www.vilatorta.cat/temes/turisme-/sopar-de-carmanyola.html
CLASS:PUBLIC
END:VEVENT
END:VCALENDAR
