BEGIN:VCALENDAR
VERSION:2.0
CALSCALE:GREGORIAN
PRODID:-//Diputació de Barcelona//DibaCMS//EN
BEGIN:VEVENT
UID:13306
DTSTAMP:20260424T115325
DTSTART:20190719T235500
DTEND:20190720T050000
SUMMARY:Ball del Fanalet 
LOCATION:Plaça Catalunya 
METHOD:PUBLISH
X-WR-CALNAME:sjv.info@vilatorta.cat
X-WR-TIMEZONE:Europe/Madrid
DESCRIPTION:El divendres 19 de juliol, a partir de les 12 de la nit, a la plaça de Catalunya començarà l'esperat Ball del Fanalet, amb música dels anys 80. Aquesta festa ha estat coorganitzada entre l'Ajuntament de Sant Julià de Vilatorta i el Consell de Joventut Tupinots. 

 

URI:https://www.vilatorta.cat/actualitat/agenda/ball-del-fanalet-.html
CLASS:PUBLIC
END:VEVENT
END:VCALENDAR
