BEGIN:VCALENDAR
VERSION:2.0
CALSCALE:GREGORIAN
PRODID:-//Diputació de Barcelona//DibaCMS//EN
BEGIN:VEVENT
UID:13307
DTSTAMP:20260424T114400
DTSTART:20190714T090000
DTEND:20190714T120000
SUMMARY:26a trobada de motos antigues
LOCATION:Plaça Catalunya 
METHOD:PUBLISH
X-WR-CALNAME:sjv.info@vilatorta.cat
X-WR-TIMEZONE:Europe/Madrid
DESCRIPTION:Enguany es portarà a terme la 26a trobada de motos antigues. La trobada serà el diumenge 14 de juliol a les 9 del matí a la plaça  de Catalunya.

URI:https://www.vilatorta.cat/actualitat/agenda/26a-trobada-de-motos-antigues.html
CLASS:PUBLIC
END:VEVENT
END:VCALENDAR
