BEGIN:VCALENDAR
VERSION:2.0
CALSCALE:GREGORIAN
PRODID:-//Diputació de Barcelona//DibaCMS//EN
BEGIN:VEVENT
UID:13308
DTSTAMP:20260420T060925
DTSTART:20190714T090000
DTEND:20190714T120000
SUMMARY:Campionat de botxes
LOCATION:Parc de les Set Fonts 08504 Sant Julià de Vilatorta
METHOD:PUBLISH
X-WR-CALNAME:sjv.info@vilatorta.cat
X-WR-TIMEZONE:Europe/Madrid
DESCRIPTION:Dins del programa de Festa Major 2019, el diumenge dia 14 de juliol a les 9 del matí al Parc de les Set Fonts es realitzarà un campionat de botxes. 

URI:https://www.vilatorta.cat/actualitat/agenda/13308-campionat-de-botxes.html
CLASS:PUBLIC
END:VEVENT
END:VCALENDAR
