BEGIN:VCALENDAR
VERSION:2.0
CALSCALE:GREGORIAN
PRODID:-//Diputació de Barcelona//DibaCMS//EN
BEGIN:VEVENT
UID:13315
DTSTAMP:20260420T094253
DTSTART:20190716T190000
DTEND:20190716T203000
SUMMARY:Gimcana de bàsquet
LOCATION:Nucli històric 
METHOD:PUBLISH
X-WR-CALNAME:sjv.info@vilatorta.cat
X-WR-TIMEZONE:Europe/Madrid
DESCRIPTION:El dimarts dia 16 de juliol, a partir de les 7 de la tarda,  per tot el nucli històric del municipi de Sant Julià de Vilatorta es portarà a terme una gimcana de bàsquet. 

URI:https://www.vilatorta.cat/actualitat/agenda/13315-gimcana-de-basquet.html
CLASS:PUBLIC
END:VEVENT
END:VCALENDAR
