BEGIN:VCALENDAR
VERSION:2.0
CALSCALE:GREGORIAN
PRODID:-//Diputació de Barcelona//DibaCMS//EN
BEGIN:VEVENT
UID:13317
DTSTAMP:20260420T073117
DTSTART:20190716T210000
DTEND:20190716T230000
SUMMARY:Olimpíada popular
LOCATION:Plaça Catalunya 
METHOD:PUBLISH
X-WR-CALNAME:sjv.info@vilatorta.cat
X-WR-TIMEZONE:Europe/Madrid
DESCRIPTION:El Consell de Joventut Tupinots, conjuntament amb l'Ajuntament de Sant Julià de Vilatorta ha organitzat una vesprada de jocs per a tota la família. Aquesta, tindrà lloc el dimarts dia 16 de juliol a partir de 9 del vespre a la plaça  de Catalunya. 

URI:https://www.vilatorta.cat/temes/turisme-/olimpiada-popular.html
CLASS:PUBLIC
END:VEVENT
END:VCALENDAR
