BEGIN:VCALENDAR
VERSION:2.0
CALSCALE:GREGORIAN
PRODID:-//Diputació de Barcelona//DibaCMS//EN
BEGIN:VEVENT
UID:13319
DTSTAMP:20260424T114418
DTSTART:20190718T190000
DTEND:20190718T210000
SUMMARY:Bicicletada popular
LOCATION:Plaça Catalunya 
METHOD:PUBLISH
X-WR-CALNAME:sjv.info@vilatorta.cat
X-WR-TIMEZONE:Europe/Madrid
DESCRIPTION:Avui a les 7 de la tarda es portarà a terme la bicicletada popular de Festa Major. L'inici de la ruta serà a la plaça de Catalunya. 

URI:https://www.vilatorta.cat/actualitat/agenda/13319-bicicletada-popular.html
CLASS:PUBLIC
END:VEVENT
END:VCALENDAR
