BEGIN:VCALENDAR
VERSION:2.0
CALSCALE:GREGORIAN
PRODID:-//Diputació de Barcelona//DibaCMS//EN
BEGIN:VEVENT
UID:13322
DTSTAMP:20260420T143854
DTSTART:20190901T120000
DTEND:20190901T130000
SUMMARY:Música per la llibertat
LOCATION:Plaça Catalunya 
METHOD:PUBLISH
X-WR-CALNAME:sjv.info@vilatorta.cat
X-WR-TIMEZONE:Europe/Madrid
DESCRIPTION:El grup CDR de Sant Julià de Vilatorta organitza de nou "Música per la llibertat". L'acte tindrà lloc el diumenge dia 1 de setembre a les 12 del migdia a la plaça de Catalunya. 

URI:https://www.vilatorta.cat/actualitat/agenda/13322-musica-per-la-llibertat.html
CLASS:PUBLIC
END:VEVENT
END:VCALENDAR
