BEGIN:VCALENDAR
VERSION:2.0
CALSCALE:GREGORIAN
PRODID:-//Diputació de Barcelona//DibaCMS//EN
BEGIN:VEVENT
UID:13328
DTSTAMP:20260420T094237
DTSTART:20190720T100000
DTEND:20190720T123000
SUMMARY:Atraccions inflables
LOCATION:Avinguda de Sant Llorenç, 80 08504 Sant Julià de Vilatorta
METHOD:PUBLISH
X-WR-CALNAME:sjv.info@vilatorta.cat
X-WR-TIMEZONE:Europe/Madrid
DESCRIPTION:El dissabte 20 de juliol, a partir de les 10 del matí, a la zona esportiva grans i petits veniu a gaudir d'atraccions inflables, algunes d'aigua.

URI:https://www.vilatorta.cat/actualitat/agenda/13328-atraccions-inflables.html
CLASS:PUBLIC
END:VEVENT
END:VCALENDAR
