BEGIN:VCALENDAR
VERSION:2.0
CALSCALE:GREGORIAN
PRODID:-//Diputació de Barcelona//DibaCMS//EN
BEGIN:VEVENT
UID:13346
DTSTAMP:20260420T094206
DTSTART:20190725T223000
DTEND:20190725T235500
SUMMARY:Mongetada-botifarrada dels disseminats a Vilalleons
LOCATION:Vilalleons 
METHOD:PUBLISH
X-WR-CALNAME:sjv.info@vilatorta.cat
X-WR-TIMEZONE:Europe/Madrid
DESCRIPTION:Avui dijous tindrà lloc la mongetada-botifarrada dels disseminats a Vilalleons. Després de l'abundós sopar, a 2/4 d'11 de la nit hi haurà l'actuació d'en Peyu.

 

URI:https://www.vilatorta.cat/temes/turisme-/mongetada-botifarrada-dels-disseminats-a-vilalleons.html
CLASS:PUBLIC
END:VEVENT
END:VCALENDAR
