BEGIN:VCALENDAR
VERSION:2.0
CALSCALE:GREGORIAN
PRODID:-//Diputació de Barcelona//DibaCMS//EN
BEGIN:VEVENT
UID:13355
DTSTAMP:20260424T163324
DTSTART:20190723T210000
DTEND:20190723T230000
SUMMARY:Ple de l'Ajuntament
LOCATION:Sala de Plens de l'Ajuntament - Plaça Marquès de la Quadra, 1 
METHOD:PUBLISH
X-WR-CALNAME:sjv.info@vilatorta.cat
X-WR-TIMEZONE:Europe/Madrid
DESCRIPTION:El dia 23 de juliol a les 9 del vespre hi ha sessió extraordinària del Ple de l'Ajuntament. Podeu consultar l'ordre del dia al document adjunt. 

URI:https://www.vilatorta.cat/actualitat/agenda/ple-de-lajuntament.html
CLASS:PUBLIC
END:VEVENT
END:VCALENDAR
