BEGIN:VCALENDAR
VERSION:2.0
CALSCALE:GREGORIAN
PRODID:-//Diputació de Barcelona//DibaCMS//EN
BEGIN:VEVENT
UID:13373
DTSTAMP:20260420T095503
DTSTART:20190801T120000
DTEND:20190801T130000
SUMMARY:Oficina mòbil d'informació al consumidor
LOCATION:plaça de Catalunya 
METHOD:PUBLISH
X-WR-CALNAME:sjv.info@vilatorta.cat
X-WR-TIMEZONE:Europe/Madrid
DESCRIPTION:Avui dijous 1 d'agost a la plaça de Catalunya hi haurà instal·lada l'Oficina Mòbil d'Informació al Consumidor. L'horari en què estarà obert el servei és de 12 a 1 del migdia. 

URI:https://www.vilatorta.cat/actualitat/agenda/13373-oficina-mobil-dinformacio-al-consumidor.html
CLASS:PUBLIC
END:VEVENT
END:VCALENDAR
