BEGIN:VCALENDAR
VERSION:2.0
CALSCALE:GREGORIAN
PRODID:-//Diputació de Barcelona//DibaCMS//EN
BEGIN:VEVENT
UID:13393
DTSTAMP:20260420T142513
DTSTART:20190816T100000
DTEND:20190816T120000
SUMMARY:Aplec de Sant Roc
LOCATION:Carrer de Martí i Pol 08504 Sant Julià de Vilatorta
METHOD:PUBLISH
X-WR-CALNAME:sjv.info@vilatorta.cat
X-WR-TIMEZONE:Europe/Madrid
DESCRIPTION:Aplec de Sant Roc

URI:https://www.vilatorta.cat/actualitat/agenda/13393-aplec-de-sant-roc.html
CLASS:PUBLIC
END:VEVENT
END:VCALENDAR
