BEGIN:VCALENDAR
VERSION:2.0
CALSCALE:GREGORIAN
PRODID:-//Diputació de Barcelona//DibaCMS//EN
BEGIN:VEVENT
UID:13413
DTSTAMP:20260420T100513
DTSTART:20190909T193000
DTEND:20190909T210000
SUMMARY:Conferència "Cent trenta-quatre onzes de setembre: del funeral als reptes del procés"
LOCATION:Plaça de l'U d'octubre, núm. 2 08504 Sant Julià de Vilatorta
METHOD:PUBLISH
X-WR-CALNAME:sjv.info@vilatorta.cat
X-WR-TIMEZONE:Europe/Madrid
DESCRIPTION:En el marc dels actes de la Diada Nacional de Catalunya, el dilluns 9 de setembre a dos quarts de 8 del vespre a l'Aula de Cultura tindrà lloc la conferència "Cent trenta-quatre onzes de setembre: del funeral als reptes del procés", a càrrec del conegut analista polític Joan B. Culla, professor d'història contemporània de la UAB. 

URI:https://www.vilatorta.cat/actualitat/agenda/conferencia-cent-trenta-quatre-onzes-de-setembre-del-funeral-als-reptes-del-proces.html
CLASS:PUBLIC
END:VEVENT
END:VCALENDAR
