BEGIN:VCALENDAR
VERSION:2.0
CALSCALE:GREGORIAN
PRODID:-//Diputació de Barcelona//DibaCMS//EN
BEGIN:VEVENT
UID:13414
DTSTAMP:20260424T114543
DTSTART:20190911T090000
DTEND:20190911T140000
SUMMARY:Actes de commemoració de la Diada Nacional de Catalunya
LOCATION:Castell de Bellpuig i plaça de Catalunya (Sant Julià de Vilatorta) 
METHOD:PUBLISH
X-WR-CALNAME:sjv.info@vilatorta.cat
X-WR-TIMEZONE:Europe/Madrid
DESCRIPTION:El proper dimecres 11 de setembre a partir de les 9 del matí a Sant Julià de Vilatorta tindran lloc diferents actes amb motiu de celebració de la Diada Nacional de Catalunya.

URI:https://www.vilatorta.cat/actualitat/agenda/actes-de-commemoracio-de-la-diada-nacional-de-catalunya.html
CLASS:PUBLIC
END:VEVENT
END:VCALENDAR
