BEGIN:VCALENDAR
VERSION:2.0
CALSCALE:GREGORIAN
PRODID:-//Diputació de Barcelona//DibaCMS//EN
BEGIN:VEVENT
UID:13416
DTSTAMP:20260420T142532
DTSTART:20190907T170000
DTEND:20190907T190000
SUMMARY:Partit de futbol del cap de setmana
LOCATION:Carrer de Sant Roc, s/n 08504 Sant Julià de Vilatorta
METHOD:PUBLISH
X-WR-CALNAME:sjv.info@vilatorta.cat
X-WR-TIMEZONE:Europe/Madrid
DESCRIPTION:El dissabte 7 de setembre a les 5 de la tarda tindrà lloc el partit de lliga de Segona Catalana, on jugarà el CF SANT JULIÀ DE VILATORTA contra CF RIPOLLET. 

URI:https://www.vilatorta.cat/actualitat/agenda/partit-de-futbol-del-cap-de-setmana.html
CLASS:PUBLIC
END:VEVENT
END:VCALENDAR
