BEGIN:VCALENDAR
VERSION:2.0
CALSCALE:GREGORIAN
PRODID:-//Diputació de Barcelona//DibaCMS//EN
BEGIN:VEVENT
UID:13418
DTSTAMP:20260424T101908
DTSTART:20190913T103000
DTEND:20190913T120000
SUMMARY:Assemblea d'inici de temporada de l'Espai Activa't
LOCATION:C/ Sant Roc, 39 08504 Sant Julià de Vilatorta
METHOD:PUBLISH
X-WR-CALNAME:sjv.info@vilatorta.cat
X-WR-TIMEZONE:Europe/Madrid
DESCRIPTION:El proper divendres dia 13 de setembre a dos quarts de 10 del matí al casal d'avis Font Noguera tindrà lloc l'assemblea d'inici de temporada de l'Espai Activa't amb el tema "Tu tries el teu temps lliure". 

URI:https://www.vilatorta.cat/actualitat/agenda/13418-assemblea-dinici-de-temporada-de-lespai-activat.html
CLASS:PUBLIC
END:VEVENT
END:VCALENDAR
