BEGIN:VCALENDAR
VERSION:2.0
CALSCALE:GREGORIAN
PRODID:-//Diputació de Barcelona//DibaCMS//EN
BEGIN:VEVENT
UID:13419
DTSTAMP:20260420T094305
DTSTART:20190906T183000
DTEND:20190906T210000
SUMMARY:Sortida de la Columna dels Terrissers
LOCATION:Plaça Marquès de la Quadra, Sant Julià de Vilatorta (08504) 
METHOD:PUBLISH
X-WR-CALNAME:sjv.info@vilatorta.cat
X-WR-TIMEZONE:Europe/Madrid
DESCRIPTION:Com cada any la Columna dels Terrissers de Sant Julià de Vilatorta participarà activament a la Marxa, sortint a 2/4 de 7 de la tarda de la plaça de l'Ajuntament per anar caminant fins a Vic. Un any més convidem a tothom a prendre part d’aquesta activitat, acompanyant la columna des de Sant Julià de Vilatorta. Per la gent que no vulgui venir caminant, el punt de concentració a Vic és a la plaça de la Catedral a les 20.30 i s'entrarà a la plaça Major per la Plaça del Pes. 

URI:https://www.vilatorta.cat/actualitat/agenda/sortida-de-la-columna-dels-terrissers.html
CLASS:PUBLIC
END:VEVENT
END:VCALENDAR
