BEGIN:VCALENDAR
VERSION:2.0
CALSCALE:GREGORIAN
PRODID:-//Diputació de Barcelona//DibaCMS//EN
BEGIN:VEVENT
UID:13420
DTSTAMP:20260420T093436
DTSTART:20190908T120000
DTEND:20190908T130000
SUMMARY:Música per la llibertat
LOCATION:Plaça de Catalunya, Sant Julià de Vilatorta (08504) 
METHOD:PUBLISH
X-WR-CALNAME:sjv.info@vilatorta.cat
X-WR-TIMEZONE:Europe/Madrid
DESCRIPTION:Dins dels actes de commemoració de la Diada Nacional de Catalunya, el diumenge 8 de setembre a les 12 del migdia a la plaça de Catalunya tindrà lloc la Música per la Llibertat. 

URI:https://www.vilatorta.cat/actualitat/agenda/13420-musica-per-la-llibertat.html
CLASS:PUBLIC
END:VEVENT
END:VCALENDAR
