BEGIN:VCALENDAR
VERSION:2.0
CALSCALE:GREGORIAN
PRODID:-//Diputació de Barcelona//DibaCMS//EN
BEGIN:VEVENT
UID:13423
DTSTAMP:20260420T093241
DTSTART:20190913T190000
DTEND:20190913T210000
SUMMARY:Poesia als parcs
LOCATION:Casa Museu Verdaguer. Carrer Major, 7 (Folgueroles - 08519) 
METHOD:PUBLISH
X-WR-CALNAME:sjv.info@vilatorta.cat
X-WR-TIMEZONE:Europe/Madrid
DESCRIPTION:El divendres 13 de setembre a les 7 de la tarda a la Casa Museu Verdaguer de Folgueroles, tindrà lloc el recital poètic "Tanta carn bruta". L'acte es troba en el marc del programa "Viu el parc", i anirà a càrrec de Guillem Gavaldà, Maria Isern i Pol Guash, juntament amb la participació d'Ona Fusté, ballarina. 

URI:https://www.vilatorta.cat/actualitat/agenda/poesia-als-parcs.html
CLASS:PUBLIC
END:VEVENT
END:VCALENDAR
