BEGIN:VCALENDAR
VERSION:2.0
CALSCALE:GREGORIAN
PRODID:-//Diputació de Barcelona//DibaCMS//EN
BEGIN:VEVENT
UID:13426
DTSTAMP:20260424T115121
DTSTART:20190921T213000
DTEND:20190921T230000
SUMMARY:Teatre "Com nos tornem"
LOCATION:Plaça Major, 7 (Edifici Ca l'Anglada) 
METHOD:PUBLISH
X-WR-CALNAME:sjv.info@vilatorta.cat
X-WR-TIMEZONE:Europe/Madrid
DESCRIPTION:Aquest dissabte 21 de setembre a 2/4 de 10 del vespre a Ca l'Anglada podreu gaudir del teatre COM NOS TORNEM, interpretat per Gisela Figueras de la companyia de teatre Bubulina Teatre. 

URI:https://www.vilatorta.cat/actualitat/agenda/teatre-com-nos-tornem.html
CLASS:PUBLIC
END:VEVENT
END:VCALENDAR
