BEGIN:VCALENDAR
VERSION:2.0
CALSCALE:GREGORIAN
PRODID:-//Diputació de Barcelona//DibaCMS//EN
BEGIN:VEVENT
UID:13427
DTSTAMP:20260420T075932
DTSTART:20190919T170000
DTEND:20190919T190000
SUMMARY:Inauguració del nou billar
LOCATION:C/ Sant Roc, 39 08504 Sant Julià de Vilatorta
METHOD:PUBLISH
X-WR-CALNAME:sjv.info@vilatorta.cat
X-WR-TIMEZONE:Europe/Madrid
DESCRIPTION:Avui dijous 19 de setembre a les 5 de la tarda al casal d'avis Font Noguera tindrà lloc la inauguració del nou billar. Per fer-ho, comptarem amb l'exhibició de carambola de quatre professionals, seguit d'un petit refrigeri per les persones assistents. 

URI:https://www.vilatorta.cat/actualitat/agenda/inauguracio-del-nou-billar.html
CLASS:PUBLIC
END:VEVENT
END:VCALENDAR
