BEGIN:VCALENDAR
VERSION:2.0
CALSCALE:GREGORIAN
PRODID:-//Diputació de Barcelona//DibaCMS//EN
BEGIN:VEVENT
UID:13439
DTSTAMP:20260420T075749
DTSTART:20190921T170000
DTEND:20190921T190000
SUMMARY:Partits de futbol del cap de setmana
LOCATION:Carrer de Sant Roc, s/n 08504 Sant Julià de Vilatorta
METHOD:PUBLISH
X-WR-CALNAME:sjv.info@vilatorta.cat
X-WR-TIMEZONE:Europe/Madrid
DESCRIPTION:Podeu consultar els partits de futbol per aquest dissabte 21 al cartell adjunt. 

URI:https://www.vilatorta.cat/actualitat/agenda/13439-partits-de-futbol-del-cap-de-setmana.html
CLASS:PUBLIC
END:VEVENT
END:VCALENDAR
