BEGIN:VCALENDAR
VERSION:2.0
CALSCALE:GREGORIAN
PRODID:-//Diputació de Barcelona//DibaCMS//EN
BEGIN:VEVENT
UID:13453
DTSTAMP:20260420T125100
DTSTART:20191024T173000
DTEND:20191024T190000
SUMMARY:Acte de constitució del nou Consell d'Infants
LOCATION:Plaça de l'U d'octubre, núm. 1 08504 Sant Julià de Vilatorta
METHOD:PUBLISH
X-WR-CALNAME:sjv.info@vilatorta.cat
X-WR-TIMEZONE:Europe/Madrid
DESCRIPTION:Avui dijous 24 d’octubre, a 2/4 de 6 de la tarda, a la sala de Plens de l’Ajuntament, tindrà lloc l’acte de constitució del nou Consell d’Infants pel curs 2019-2020, format per infants de 5è i 6è de primària de les escoles del municipi: col·legi El Roser i escola Bellpuig. L’acte és obert a tothom així que us animem a formar-ne part.

URI:https://www.vilatorta.cat/actualitat/agenda/acte-de-constitucio-del-nou-consell-dinfants.html
CLASS:PUBLIC
END:VEVENT
END:VCALENDAR
