BEGIN:VCALENDAR
VERSION:2.0
CALSCALE:GREGORIAN
PRODID:-//Diputació de Barcelona//DibaCMS//EN
BEGIN:VEVENT
UID:13469
DTSTAMP:20260424T163409
DTSTART:20191012T170000
DTEND:20191012T190000
SUMMARY:Taller de ceràmica per a nens i nenes
LOCATION:Ca l'Anglada  
METHOD:PUBLISH
X-WR-CALNAME:sjv.info@vilatorta.cat
X-WR-TIMEZONE:Europe/Madrid
DESCRIPTION:En el marc de la setmana d'artesania de Catalunya, el dissabte 12 d'octubre a les 5 de la tarda a Ca l'Anglada tindrà lloc un taller de ceràmica gratuït per a nens i nenes a càrrec de Tanit Salvador.

URI:https://www.vilatorta.cat/actualitat/agenda/taller-de-ceramica-per-a-nens-i-nenes.html
CLASS:PUBLIC
END:VEVENT
END:VCALENDAR
