BEGIN:VCALENDAR
VERSION:2.0
CALSCALE:GREGORIAN
PRODID:-//Diputació de Barcelona//DibaCMS//EN
BEGIN:VEVENT
UID:13472
DTSTAMP:20260424T145837
DTSTART:20191013T110000
DTEND:20191013T123000
SUMMARY:Visita guiada a la Ruta de l'Estiueig
LOCATION:Centre d'Informació Turística - Ca l'Anglada 
METHOD:PUBLISH
X-WR-CALNAME:sjv.info@vilatorta.cat
X-WR-TIMEZONE:Europe/Madrid
DESCRIPTION:En el marc de la setmana de l'artesania de Catalunya, el diumenge 13 d'octubre a les 11 del matí podeu participar a la visita guiada a la Ruta de l'Estiueig. La visita té una durada aproximada d'una hora i mitja, i la sortida es realitzarà des del Centre d'Informació Turística (edifici Ca l'Anglada). 

URI:https://www.vilatorta.cat/actualitat/agenda/visita-guiada-a-la-ruta-de-lestiueig.html
CLASS:PUBLIC
END:VEVENT
END:VCALENDAR
