BEGIN:VCALENDAR
VERSION:2.0
CALSCALE:GREGORIAN
PRODID:-//Diputació de Barcelona//DibaCMS//EN
BEGIN:VEVENT
UID:13483
DTSTAMP:20260424T102022
DTSTART:20191109T080000
DTEND:20191109T220000
SUMMARY:Sortida jove a PortAventura
LOCATION:Parc d'atraccions PortAventura (sortida des del municipi de Sant Julià de Vilatorta) 
METHOD:PUBLISH
X-WR-CALNAME:sjv.info@vilatorta.cat
X-WR-TIMEZONE:Europe/Madrid
DESCRIPTION:El dissabte 9 de novembre tindrà lloc la tan esperada sortida jove a PortAventura adreçada a joves majors de 13 anys (nascuts a partir del 2006).

URI:https://www.vilatorta.cat/actualitat/agenda/13483-sortida-jove-a-portaventura.html
CLASS:PUBLIC
END:VEVENT
END:VCALENDAR
